BEGIN:VCALENDAR
VERSION:2.0
PRODID:-//Tukios.com/
BEGIN:VEVENT
UID:c24b574e-92d6-4386-a2e6-e56b5063deb0@www.burgessbrothersmortuary.com
DTSTAMP:20260421T052822Z
DTSTART:20260430T210000Z
DTEND:20260430T220000Z
SUMMARY:Mass
DESCRIPTION:
URL:https://www.burgessbrothersmortuary.com/obituaries/andres-eyas
LOCATION:St. Philomena Church 21900 Main St  Carson CA 90745
GEO:33.8288422;-118.2766645
END:VEVENT
END:VCALENDAR