BEGIN:VCALENDAR
VERSION:2.0
PRODID:-//Tukios.com/
BEGIN:VEVENT
UID:ed9c4e11-52e6-4572-b215-5027830a5c5b@www.burgessbrothersmortuary.com
DTSTAMP:20260421T052720Z
DTSTART:20260501T000000Z
DTEND:20260501T040000Z
SUMMARY:Chapel
DESCRIPTION:
URL:https://www.burgessbrothersmortuary.com/obituaries/andres-eyas
LOCATION:6510 Cherry Ave 6510 Cherry Ave  Long Beach CA 90805
GEO:33.872992;-118.1681285
END:VEVENT
END:VCALENDAR