BEGIN:VCALENDAR
VERSION:2.0
PRODID:-//Tukios.com/
BEGIN:VEVENT
UID:a948bafa-5fe0-45ef-a4ae-242ea197afc8@www.burgessbrothersmortuary.com
DTSTAMP:20260421T052823Z
DTSTART:20260501T183000Z
DTEND:20260501T193000Z
SUMMARY:Graveside Service
DESCRIPTION:
URL:https://www.burgessbrothersmortuary.com/obituaries/andres-eyas
LOCATION:Riverside National Cemetery 22495 Van Buren Boulevard  Riverside 
	CA 92518
GEO:33.8856688;-117.2793495
END:VEVENT
END:VCALENDAR