BEGIN:VCALENDAR
VERSION:2.0
PRODID:-//Tukios.com/
BEGIN:VEVENT
UID:3d6d9782-e228-467f-b689-d67b3d0bb4ee@www.burgessbrothersmortuary.com
DTSTAMP:20260421T051544Z
DTSTART:20260501T230000Z
DTEND:20260502T020000Z
SUMMARY:Viewing
DESCRIPTION:
URL:https://www.burgessbrothersmortuary.com/obituaries/gabriel-salinas
LOCATION:CrossPoint Christian Church 8155 Painter Ave  Whittier CA 90602
GEO:33.9652574;-118.0331548
END:VEVENT
END:VCALENDAR