BEGIN:VCALENDAR
VERSION:2.0
PRODID:-//Tukios.com/
BEGIN:VEVENT
UID:5ba54a4e-8bd9-4c22-90ab-c1ae893232e8@www.burgessbrothersmortuary.com
DTSTAMP:20260421T050833Z
DTSTART:20260502T020000Z
DTEND:20260502T030000Z
SUMMARY:Funeral Service
DESCRIPTION:
URL:https://www.burgessbrothersmortuary.com/obituaries/gabriel-salinas
LOCATION:CrossPoint Christian Church 8155 Painter Ave  Whittier CA 90602
GEO:33.9652574;-118.0331548
END:VEVENT
END:VCALENDAR