BEGIN:VCALENDAR
VERSION:2.0
PRODID:-//Tukios.com/
BEGIN:VEVENT
UID:732c0cb4-0fdb-4ec1-bb6e-a4a87420f20c@www.burgessbrothersmortuary.com
DTSTAMP:20260421T052655Z
DTSTART:20260503T000000Z
DTEND:20260503T030000Z
SUMMARY:Visitation
DESCRIPTION:
URL:https://www.burgessbrothersmortuary.com/obituaries/gesna-goins
LOCATION:Affordable Burial & Cremation Services 6510 Cherry Ave  Long 
	Beach CA 90805
GEO:33.872992;-118.1681285
END:VEVENT
END:VCALENDAR