BEGIN:VCALENDAR
VERSION:2.0
PRODID:-//Tukios.com/
BEGIN:VEVENT
UID:9c9500cc-20ee-4232-ad3f-fbf00e15a1ed@www.burgessbrothersmortuary.com
DTSTAMP:20260421T052720Z
DTSTART:20260504T180000Z
DTEND:20260504T190000Z
SUMMARY:Funeral Service
DESCRIPTION:
URL:https://www.burgessbrothersmortuary.com/obituaries/gesna-goins
LOCATION:Macedonia Baptist Church of Los Angeles 1751 E 114th St  Los 
	Angeles CA 90059
GEO:33.9313671;-118.242292
END:VEVENT
END:VCALENDAR