BEGIN:VCALENDAR
VERSION:2.0
PRODID:-//Tukios.com/
BEGIN:VEVENT
UID:842f6dc5-2b7b-436a-904c-40b7e8805b85@www.burgessbrothersmortuary.com
DTSTAMP:20260421T052300Z
DTSTART:20260522T180000Z
DTEND:20260522T190000Z
SUMMARY:Funeral Service
DESCRIPTION:
URL:https://www.burgessbrothersmortuary.com/obituaries/james-perdue
LOCATION:Faithful Central Bible Church 400 W Florence Ave  Inglewood CA 
	90301
GEO:33.9654078;-118.3622712
END:VEVENT
END:VCALENDAR