BEGIN:VCALENDAR
VERSION:2.0
PRODID:-//Tukios.com/
BEGIN:VEVENT
UID:1f9cd014-c318-4f4e-a8b3-935ca26414ab@www.burgessbrothersmortuary.com
DTSTAMP:20260421T051755Z
DTSTART:20260522T200000Z
DTEND:20260522T210000Z
SUMMARY:Burial
DESCRIPTION:
URL:https://www.burgessbrothersmortuary.com/obituaries/james-perdue
LOCATION: 720 E Florence Ave  Inglewood CA 90301
GEO:33.9709591;-118.3434427
END:VEVENT
END:VCALENDAR