BEGIN:VCALENDAR
VERSION:2.0
PRODID:-//Tukios.com/
BEGIN:VEVENT
UID:294bbbd6-c06b-42ab-8e22-1206d649f3dd@www.burgessbrothersmortuary.com
DTSTAMP:20260421T071439Z
DTSTART:20260423T180000Z
DTEND:20260423T190000Z
SUMMARY:Funeral Service
DESCRIPTION:
URL:https://www.burgessbrothersmortuary.com/obituaries/johnnie-marshall
LOCATION:Christ Second Baptist Church 1471 Martin Luther King Jr Ave  
	Long Beach CA 90813
GEO:33.784575;-118.1809529
END:VEVENT
END:VCALENDAR