BEGIN:VCALENDAR
VERSION:2.0
PRODID:-//Tukios.com/
BEGIN:VEVENT
UID:0c6db943-1d16-4abc-957a-ad68549cb5f6@www.burgessbrothersmortuary.com
DTSTAMP:20260421T071646Z
DTSTART:20260424T194500Z
DTEND:20260424T204500Z
SUMMARY:Interment
DESCRIPTION:
URL:https://www.burgessbrothersmortuary.com/obituaries/johnnie-marshall
LOCATION:Riverside National Cemetery 22495 Van Buren Boulevard  Riverside 
	CA 92518
GEO:33.8856688;-117.2793495
END:VEVENT
END:VCALENDAR