BEGIN:VCALENDAR
VERSION:2.0
PRODID:-//Tukios.com/
BEGIN:VEVENT
UID:9f738052-12dd-43af-8ab4-1d058cdb4609@www.burgessbrothersmortuary.com
DTSTAMP:20260421T071207Z
DTSTART:20260423T170000Z
DTEND:20260423T180000Z
SUMMARY:Viewing
DESCRIPTION:
URL:https://www.burgessbrothersmortuary.com/obituaries/johnnie-marshall
LOCATION: 1471 Martin Luther King Jr Ave  Long Beach CA 90813
GEO:33.784575;-118.1809529
END:VEVENT
END:VCALENDAR