BEGIN:VCALENDAR
VERSION:2.0
PRODID:-//Tukios.com/
BEGIN:VEVENT
UID:ece59e4e-6178-4514-8e29-1084b0fc340d@www.burgessbrothersmortuary.com
DTSTAMP:20260421T051544Z
DTSTART:20260424T230000Z
DTEND:20260425T020000Z
SUMMARY:Visitation
DESCRIPTION:
URL:https://www.burgessbrothersmortuary.com/obituaries/kay-carroll
LOCATION:Elite 1508 Centinela Ave  Inglewood CA 90302
GEO:33.9771372;-118.3655587
END:VEVENT
END:VCALENDAR