BEGIN:VCALENDAR
VERSION:2.0
PRODID:-//Tukios.com/
BEGIN:VEVENT
UID:b5cb2884-f85c-49a0-a362-a61fc444b69e@www.burgessbrothersmortuary.com
DTSTAMP:20260421T051313Z
DTSTART:20260425T170000Z
DTEND:20260425T180000Z
SUMMARY:Funeral Service
DESCRIPTION:
URL:https://www.burgessbrothersmortuary.com/obituaries/kay-carroll
LOCATION:Crusaders Temple Church of God 9100 Hooper Ave.  Los Angeles CA 
	90002
GEO:33.9537572;-118.2537018
END:VEVENT
END:VCALENDAR